BEGIN:VCALENDAR
VERSION:2.0
PRODID:-//wp-events-plugin.com//7.2.3.1//EN
BEGIN:VEVENT
UID:216@cityofhackberry.net
DTSTART;VALUE=DATE:20260915
DTEND;VALUE=DATE:20260916
DTSTAMP:20260120T224351Z
URL:https://cityofhackberry.net/events/payment-due-9/
SUMMARY:Payment Due
DESCRIPTION:
CATEGORIES:Payment Notice
END:VEVENT
END:VCALENDAR