BEGIN:VCALENDAR
VERSION:2.0
PRODID:-//wp-events-plugin.com//7.2.3.1//EN
BEGIN:VEVENT
UID:215@cityofhackberry.net
DTSTART;VALUE=DATE:20260815
DTEND;VALUE=DATE:20260816
DTSTAMP:20260120T223638Z
URL:https://cityofhackberry.net/events/payment-due-8/
SUMMARY:Payment Due
DESCRIPTION:
END:VEVENT
END:VCALENDAR