BEGIN:VCALENDAR
VERSION:2.0
PRODID:-//wp-events-plugin.com//7.2.3.1//EN
BEGIN:VEVENT
UID:214@cityofhackberry.net
DTSTART;VALUE=DATE:20260715
DTEND;VALUE=DATE:20260716
DTSTAMP:20260120T224334Z
URL:https://cityofhackberry.net/events/payment-due-7/
SUMMARY:Payment Due
DESCRIPTION:
CATEGORIES:Payment Notice
END:VEVENT
END:VCALENDAR