BEGIN:VCALENDAR
VERSION:2.0
PRODID:-//wp-events-plugin.com//7.2.3.1//EN
BEGIN:VEVENT
UID:213@cityofhackberry.net
DTSTART;VALUE=DATE:20260615
DTEND;VALUE=DATE:20260616
DTSTAMP:20260120T223555Z
URL:https://cityofhackberry.net/events/payment-due-6/
SUMMARY:Payment Due
DESCRIPTION:
END:VEVENT
END:VCALENDAR