BEGIN:VCALENDAR
VERSION:2.0
PRODID:-//wp-events-plugin.com//7.2.3.1//EN
BEGIN:VEVENT
UID:219@cityofhackberry.net
DTSTART;VALUE=DATE:20261215
DTEND;VALUE=DATE:20261216
DTSTAMP:20260120T224436Z
URL:https://cityofhackberry.net/events/payment-due-12/
SUMMARY:Payment Due
DESCRIPTION:
CATEGORIES:Payment Notice
END:VEVENT
END:VCALENDAR