BEGIN:VCALENDAR
VERSION:2.0
PRODID:-//wp-events-plugin.com//7.2.3.1//EN
BEGIN:VEVENT
UID:217@cityofhackberry.net
DTSTART;VALUE=DATE:20261015
DTEND;VALUE=DATE:20261016
DTSTAMP:20260120T224405Z
URL:https://cityofhackberry.net/events/payment-due-10/
SUMMARY:Payment Due
DESCRIPTION:
CATEGORIES:Payment Notice
END:VEVENT
END:VCALENDAR