BEGIN:VCALENDAR
VERSION:2.0
PRODID:-//wp-events-plugin.com//7.2.3.1//EN
BEGIN:VEVENT
UID:200@cityofhackberry.net
DTSTART;VALUE=DATE:20251016
DTEND;VALUE=DATE:20251017
DTSTAMP:20250127T093026Z
URL:https://cityofhackberry.net/events/late-fees-assessed-16-october/
SUMMARY:Late Fees Assessed
DESCRIPTION:
CATEGORIES:Payment Notice
END:VEVENT
END:VCALENDAR