BEGIN:VCALENDAR
VERSION:2.0
PRODID:-//wp-events-plugin.com//7.2.3.1//EN
BEGIN:VEVENT
UID:194@cityofhackberry.net
DTSTART;VALUE=DATE:20250816
DTEND;VALUE=DATE:20250817
DTSTAMP:20250127T085825Z
URL:https://cityofhackberry.net/events/late-fees-assessed-16-august/
SUMMARY:Late Fees Assessed
DESCRIPTION:
CATEGORIES:Payment Notice
END:VEVENT
END:VCALENDAR