BEGIN:VCALENDAR
VERSION:2.0
PRODID:-//wp-events-plugin.com//7.2.3.1//EN
BEGIN:VEVENT
UID:227@cityofhackberry.net
DTSTART;VALUE=DATE:20260816
DTEND;VALUE=DATE:20260817
DTSTAMP:20260120T224632Z
URL:https://cityofhackberry.net/events/late-fee-assessed-8/
SUMMARY:Late Fee Assessed
DESCRIPTION:
CATEGORIES:Payment Notice
END:VEVENT
END:VCALENDAR