BEGIN:VCALENDAR
VERSION:2.0
PRODID:-//wp-events-plugin.com//7.2.3.1//EN
BEGIN:VEVENT
UID:223@cityofhackberry.net
DTSTART;VALUE=DATE:20260416
DTEND;VALUE=DATE:20260417
DTSTAMP:20260120T224203Z
URL:https://cityofhackberry.net/events/late-fee-assessed-4/
SUMMARY:Late Fee Assessed
DESCRIPTION:
CATEGORIES:Payment Notice
END:VEVENT
END:VCALENDAR