BEGIN:VCALENDAR
VERSION:2.0
PRODID:-//wp-events-plugin.com//7.2.3.1//EN
BEGIN:VEVENT
UID:229@cityofhackberry.net
DTSTART;VALUE=DATE:20261016
DTEND;VALUE=DATE:20261017
DTSTAMP:20260120T224709Z
URL:https://cityofhackberry.net/events/late-fee-assessed-10/
SUMMARY:Late Fee Assessed
DESCRIPTION:
CATEGORIES:Payment Notice
END:VEVENT
END:VCALENDAR