BEGIN:VCALENDAR
VERSION:2.0
PRODID:-//wp-events-plugin.com//7.2.3.1//EN
BEGIN:VEVENT
UID:201@cityofhackberry.net
DTSTART;VALUE=DATE:20251026
DTEND;VALUE=DATE:20251027
DTSTAMP:20250127T093224Z
URL:https://cityofhackberry.net/events/disruption-of-service-for-non-payme
 nt-26-october/
SUMMARY:Disruption of Service for Non-Payment
DESCRIPTION:
CATEGORIES:Payment Notice
END:VEVENT
END:VCALENDAR