BEGIN:VCALENDAR
VERSION:2.0
PRODID:-//wp-events-plugin.com//7.2.3.1//EN
BEGIN:VEVENT
UID:195@cityofhackberry.net
DTSTART;VALUE=DATE:20250826
DTEND;VALUE=DATE:20250827
DTSTAMP:20250127T085956Z
URL:https://cityofhackberry.net/events/disruption-of-service-for-non-payme
 nt-26-august/
SUMMARY:Disruption of Service for Non-Payment
DESCRIPTION:
CATEGORIES:Payment Notice
END:VEVENT
END:VCALENDAR