BEGIN:VCALENDAR
VERSION:2.0
PRODID:-//wp-events-plugin.com//7.2.3.1//EN
BEGIN:VEVENT
UID:240@cityofhackberry.net
DTSTART;VALUE=DATE:20260926
DTEND;VALUE=DATE:20260927
DTSTAMP:20260120T225102Z
URL:https://cityofhackberry.net/events/disconnection-for-non-payment-9/
SUMMARY:Disconnection for non-payment
DESCRIPTION:
CATEGORIES:General
END:VEVENT
END:VCALENDAR