BEGIN:VCALENDAR
VERSION:2.0
PRODID:-//wp-events-plugin.com//7.2.3.1//EN
BEGIN:VEVENT
UID:238@cityofhackberry.net
DTSTART;VALUE=DATE:20260726
DTEND;VALUE=DATE:20260727
DTSTAMP:20260120T225025Z
URL:https://cityofhackberry.net/events/disconnection-for-non-payment-7/
SUMMARY:Disconnection for non-payment
DESCRIPTION:
CATEGORIES:General
END:VEVENT
END:VCALENDAR