BEGIN:VCALENDAR
VERSION:2.0
PRODID:-//wp-events-plugin.com//7.2.3.1//EN
BEGIN:VEVENT
UID:237@cityofhackberry.net
DTSTART;VALUE=DATE:20260626
DTEND;VALUE=DATE:20260627
DTSTAMP:20260120T225002Z
URL:https://cityofhackberry.net/events/disconnection-for-non-payment-6/
SUMMARY:Disconnection for non-payment
DESCRIPTION:
CATEGORIES:General
END:VEVENT
END:VCALENDAR