BEGIN:VCALENDAR
VERSION:2.0
PRODID:-//wp-events-plugin.com//7.2.3.1//EN
BEGIN:VEVENT
UID:236@cityofhackberry.net
DTSTART;VALUE=DATE:20260526
DTEND;VALUE=DATE:20260527
DTSTAMP:20260120T224934Z
URL:https://cityofhackberry.net/events/disconnection-for-non-payment-5/
SUMMARY:Disconnection for non-payment
DESCRIPTION:
CATEGORIES:General
END:VEVENT
END:VCALENDAR