BEGIN:VCALENDAR
VERSION:2.0
PRODID:-//wp-events-plugin.com//7.2.3.1//EN
BEGIN:VEVENT
UID:241@cityofhackberry.net
DTSTART;VALUE=DATE:20261026
DTEND;VALUE=DATE:20261027
DTSTAMP:20260120T225120Z
URL:https://cityofhackberry.net/events/disconnection-for-non-payment-10/
SUMMARY:Disconnection for non-payment
DESCRIPTION:
CATEGORIES:General
END:VEVENT
END:VCALENDAR