BEGIN:VCALENDAR
VERSION:2.0
PRODID:-//wp-events-plugin.com//7.2.3.1//EN
BEGIN:VEVENT
UID:55@cityofhackberry.net
DTSTART:20250521T130000Z
DTEND:20250521T130000Z
DTSTAMP:20250127T100204Z
URL:https://cityofhackberry.net/events/court-2025-05-21/
SUMMARY:Municipal Court
DESCRIPTION:
ATTACH;FMTTYPE=image/jpeg:https://cityofhackberry.net/wp-content/uploads/2
 024/10/hackberrylogo2.png
CATEGORIES:General
END:VEVENT
END:VCALENDAR