BEGIN:VCALENDAR
VERSION:2.0
PRODID:-//wp-events-plugin.com//7.2.3.1//EN
BEGIN:VEVENT
UID:54@cityofhackberry.net
DTSTART:20250416T130000Z
DTEND:20250416T130000Z
DTSTAMP:20250127T100159Z
URL:https://cityofhackberry.net/events/court-2025-04-16/
SUMMARY:Municipal Court
DESCRIPTION:
ATTACH;FMTTYPE=image/jpeg:https://cityofhackberry.net/wp-content/uploads/2
 024/10/hackberrylogo2.png
CATEGORIES:General
END:VEVENT
END:VCALENDAR