BEGIN:VCALENDAR
VERSION:2.0
PRODID:-//wp-events-plugin.com//7.2.3.1//EN
BEGIN:VEVENT
UID:266@cityofhackberry.net
DTSTART:20261021T130000Z
DTEND:20261021T140000Z
DTSTAMP:20260120T230501Z
URL:https://cityofhackberry.net/events/court-1pm-11/
SUMMARY:Court @ 1pm
DESCRIPTION:
CATEGORIES:General
END:VEVENT
END:VCALENDAR