BEGIN:VCALENDAR
VERSION:2.0
PRODID:-//wp-events-plugin.com//7.2.3.1//EN
BEGIN:VEVENT
UID:265@cityofhackberry.net
DTSTART:20260916T130000Z
DTEND:20260916T140000Z
DTSTAMP:20260120T230438Z
URL:https://cityofhackberry.net/events/court-1pm-10/
SUMMARY:Court @ 1pm
DESCRIPTION:
CATEGORIES:General
END:VEVENT
END:VCALENDAR