BEGIN:VCALENDAR
VERSION:2.0
PRODID:-//wp-events-plugin.com//7.2.3.1//EN
BEGIN:VEVENT
UID:252@cityofhackberry.net
DTSTART:20260908T190000Z
DTEND:20260908T200000Z
DTSTAMP:20260120T225759Z
URL:https://cityofhackberry.net/events/council-meeting-7pm-9/
SUMMARY:Council Meeting @ 7pm
DESCRIPTION:
CATEGORIES:General
END:VEVENT
END:VCALENDAR