BEGIN:VCALENDAR
VERSION:2.0
PRODID:-//wp-events-plugin.com//7.2.3.1//EN
BEGIN:VEVENT
UID:250@cityofhackberry.net
DTSTART:20260714T190000Z
DTEND:20260714T200000Z
DTSTAMP:20260120T225708Z
URL:https://cityofhackberry.net/events/council-meeting-7pm-7/
SUMMARY:Council Meeting @ 7pm
DESCRIPTION:
CATEGORIES:General
END:VEVENT
END:VCALENDAR