BEGIN:VCALENDAR
VERSION:2.0
PRODID:-//wp-events-plugin.com//7.2.3.1//EN
BEGIN:VEVENT
UID:249@cityofhackberry.net
DTSTART:20260609T190000Z
DTEND:20260609T200000Z
DTSTAMP:20260120T225636Z
URL:https://cityofhackberry.net/events/council-meeting-7pm-6/
SUMMARY:Council Meeting @ 7pm
DESCRIPTION:
CATEGORIES:General
END:VEVENT
END:VCALENDAR