BEGIN:VCALENDAR
VERSION:2.0
PRODID:-//wp-events-plugin.com//7.2.3.1//EN
BEGIN:VEVENT
UID:184@cityofhackberry.net
DTSTART;VALUE=DATE:20250515
DTEND;VALUE=DATE:20250516
DTSTAMP:20250127T082409Z
URL:https://cityofhackberry.net/events/billing-due-date-15-may/
SUMMARY:Billing Due Date
DESCRIPTION:
CATEGORIES:Payment Notice
END:VEVENT
END:VCALENDAR