BEGIN:VCALENDAR
VERSION:2.0
PRODID:-//wp-events-plugin.com//7.2.3.1//EN
BEGIN:VEVENT
UID:193@cityofhackberry.net
DTSTART;VALUE=DATE:20250815
DTEND;VALUE=DATE:20250816
DTSTAMP:20250127T085703Z
URL:https://cityofhackberry.net/events/billing-due-date-15-august/
SUMMARY:Billing Due Date
DESCRIPTION:
CATEGORIES:Payment Notice
END:VEVENT
END:VCALENDAR